BEGIN:VCALENDAR
VERSION:2.0
PRODID:-//Kearney Whitewater Association - ECPv6.15.20//NONSGML v1.0//EN
CALSCALE:GREGORIAN
METHOD:PUBLISH
X-WR-CALNAME:Kearney Whitewater Association
X-ORIGINAL-URL:https://kearneywhitewater.org
X-WR-CALDESC:Events for Kearney Whitewater Association
REFRESH-INTERVAL;VALUE=DURATION:PT1H
X-Robots-Tag:noindex
X-PUBLISHED-TTL:PT1H
BEGIN:VTIMEZONE
TZID:America/Chicago
BEGIN:DAYLIGHT
TZOFFSETFROM:-0600
TZOFFSETTO:-0500
TZNAME:CDT
DTSTART:20250309T080000
END:DAYLIGHT
BEGIN:STANDARD
TZOFFSETFROM:-0500
TZOFFSETTO:-0600
TZNAME:CST
DTSTART:20251102T070000
END:STANDARD
BEGIN:DAYLIGHT
TZOFFSETFROM:-0600
TZOFFSETTO:-0500
TZNAME:CDT
DTSTART:20260308T080000
END:DAYLIGHT
BEGIN:STANDARD
TZOFFSETFROM:-0500
TZOFFSETTO:-0600
TZNAME:CST
DTSTART:20261101T070000
END:STANDARD
BEGIN:DAYLIGHT
TZOFFSETFROM:-0600
TZOFFSETTO:-0500
TZNAME:CDT
DTSTART:20270314T080000
END:DAYLIGHT
BEGIN:STANDARD
TZOFFSETFROM:-0500
TZOFFSETTO:-0600
TZNAME:CST
DTSTART:20271107T070000
END:STANDARD
END:VTIMEZONE
BEGIN:VEVENT
DTSTART;TZID=America/Chicago:20260226T190000
DTEND;TZID=America/Chicago:20260226T203000
DTSTAMP:20260423T134643
CREATED:20260123T183823Z
LAST-MODIFIED:20260213T014521Z
UID:1448-1772132400-1772137800@kearneywhitewater.org
SUMMARY:2026 Annual Meeting
DESCRIPTION:Please join us for the KWA Annual Meeting on Thursday\, February 26\, 2026\, in the Niobrara Room at The Kearney Public Library\, 2020 1st Avenue. We will have elections\, a budget report\, reflect on 2025\, discuss plans and dates for 2026\, first installment of the Nolan Little Adventure Series\, plus much more.We would like to encourage any KWA members to consider running for an open board position. Please contact a current board member if you would like to be placed on the ballot for our 2026 Elections at the Annual Meeting. We will also ask for nominations from the floor at the meeting.\n7:00 – 8:30 KWA Annual MeetingYou must be a 2026 paid member of KWA in order to vote.Memberships are:$30 annually for individual memberships$60 annually for family membershipsIf you need to renew your membership you can do so here – https://kearneyfoundation.fcsuite.com/…/create/fund…Hope to see you there!
URL:https://kearneywhitewater.org/event/2026-annual-meeting/
LOCATION:Kearney Public Library\, 2020 1st Avenue\, Kearney\, NE\, 68845\, United States
CATEGORIES:Annual Meeting
END:VEVENT
END:VCALENDAR