BEGIN:VCALENDAR
VERSION:2.0
PRODID:-//Kearney Whitewater Association - ECPv6.15.20//NONSGML v1.0//EN
CALSCALE:GREGORIAN
METHOD:PUBLISH
X-ORIGINAL-URL:https://kearneywhitewater.org
X-WR-CALDESC:Events for Kearney Whitewater Association
REFRESH-INTERVAL;VALUE=DURATION:PT1H
X-Robots-Tag:noindex
X-PUBLISHED-TTL:PT1H
BEGIN:VTIMEZONE
TZID:America/Chicago
BEGIN:DAYLIGHT
TZOFFSETFROM:-0600
TZOFFSETTO:-0500
TZNAME:CDT
DTSTART:20250309T080000
END:DAYLIGHT
BEGIN:STANDARD
TZOFFSETFROM:-0500
TZOFFSETTO:-0600
TZNAME:CST
DTSTART:20251102T070000
END:STANDARD
BEGIN:DAYLIGHT
TZOFFSETFROM:-0600
TZOFFSETTO:-0500
TZNAME:CDT
DTSTART:20260308T080000
END:DAYLIGHT
BEGIN:STANDARD
TZOFFSETFROM:-0500
TZOFFSETTO:-0600
TZNAME:CST
DTSTART:20261101T070000
END:STANDARD
BEGIN:DAYLIGHT
TZOFFSETFROM:-0600
TZOFFSETTO:-0500
TZNAME:CDT
DTSTART:20270314T080000
END:DAYLIGHT
BEGIN:STANDARD
TZOFFSETFROM:-0500
TZOFFSETTO:-0600
TZNAME:CST
DTSTART:20271107T070000
END:STANDARD
END:VTIMEZONE
BEGIN:VEVENT
DTSTART;TZID=America/Chicago:20260321T090000
DTEND;TZID=America/Chicago:20260321T110000
DTSTAMP:20260423T123740
CREATED:20260311T234435Z
LAST-MODIFIED:20260311T234435Z
UID:1508-1774083600-1774090800@kearneywhitewater.org
SUMMARY:2026 KWA Spring Cleanup
DESCRIPTION:The KWA Spring Cleanup will be held on March 21\, 2026\, from 9 AM – 11 AM. Plan to meet at the Midway Landing parking lot and we will see if there are enough volunteers to cover additional areas besides the whitewater park. Cleanup efforts will target both the 2nd/Central Avenue area\, and if possible the north creek bank near the north RV Park. If you can assist with these cleanup efforts\, please dress to get dirty and bring gloves\, waders\, buckets\, trash grabbers\, etc. Trash bags will be provided. Rain date will be March 28. Contact Bruce Karnatz (308) 627-5268 if you have any questions.
URL:https://kearneywhitewater.org/event/2026-kwa-spring-cleanup/
LOCATION:Midway Landing\, 300 N Central Avenue\, Kearney\, NE
CATEGORIES:Cleanup
END:VEVENT
END:VCALENDAR