BEGIN:VCALENDAR
VERSION:2.0
PRODID:-//Kearney Whitewater Association - ECPv6.15.20//NONSGML v1.0//EN
CALSCALE:GREGORIAN
METHOD:PUBLISH
X-WR-CALNAME:Kearney Whitewater Association
X-ORIGINAL-URL:https://kearneywhitewater.org
X-WR-CALDESC:Events for Kearney Whitewater Association
REFRESH-INTERVAL;VALUE=DURATION:PT1H
X-Robots-Tag:noindex
X-PUBLISHED-TTL:PT1H
BEGIN:VTIMEZONE
TZID:America/Chicago
BEGIN:DAYLIGHT
TZOFFSETFROM:-0600
TZOFFSETTO:-0500
TZNAME:CDT
DTSTART:20200308T080000
END:DAYLIGHT
BEGIN:STANDARD
TZOFFSETFROM:-0500
TZOFFSETTO:-0600
TZNAME:CST
DTSTART:20201101T070000
END:STANDARD
BEGIN:DAYLIGHT
TZOFFSETFROM:-0600
TZOFFSETTO:-0500
TZNAME:CDT
DTSTART:20210314T080000
END:DAYLIGHT
BEGIN:STANDARD
TZOFFSETFROM:-0500
TZOFFSETTO:-0600
TZNAME:CST
DTSTART:20211107T070000
END:STANDARD
BEGIN:DAYLIGHT
TZOFFSETFROM:-0600
TZOFFSETTO:-0500
TZNAME:CDT
DTSTART:20220313T080000
END:DAYLIGHT
BEGIN:STANDARD
TZOFFSETFROM:-0500
TZOFFSETTO:-0600
TZNAME:CST
DTSTART:20221106T070000
END:STANDARD
BEGIN:DAYLIGHT
TZOFFSETFROM:-0600
TZOFFSETTO:-0500
TZNAME:CDT
DTSTART:20230312T080000
END:DAYLIGHT
BEGIN:STANDARD
TZOFFSETFROM:-0500
TZOFFSETTO:-0600
TZNAME:CST
DTSTART:20231105T070000
END:STANDARD
BEGIN:DAYLIGHT
TZOFFSETFROM:-0600
TZOFFSETTO:-0500
TZNAME:CDT
DTSTART:20240310T080000
END:DAYLIGHT
BEGIN:STANDARD
TZOFFSETFROM:-0500
TZOFFSETTO:-0600
TZNAME:CST
DTSTART:20241103T070000
END:STANDARD
BEGIN:DAYLIGHT
TZOFFSETFROM:-0600
TZOFFSETTO:-0500
TZNAME:CDT
DTSTART:20250309T080000
END:DAYLIGHT
BEGIN:STANDARD
TZOFFSETFROM:-0500
TZOFFSETTO:-0600
TZNAME:CST
DTSTART:20251102T070000
END:STANDARD
BEGIN:DAYLIGHT
TZOFFSETFROM:-0600
TZOFFSETTO:-0500
TZNAME:CDT
DTSTART:20260308T080000
END:DAYLIGHT
BEGIN:STANDARD
TZOFFSETFROM:-0500
TZOFFSETTO:-0600
TZNAME:CST
DTSTART:20261101T070000
END:STANDARD
BEGIN:DAYLIGHT
TZOFFSETFROM:-0600
TZOFFSETTO:-0500
TZNAME:CDT
DTSTART:20270314T080000
END:DAYLIGHT
BEGIN:STANDARD
TZOFFSETFROM:-0500
TZOFFSETTO:-0600
TZNAME:CST
DTSTART:20271107T070000
END:STANDARD
END:VTIMEZONE
BEGIN:VEVENT
DTSTART;TZID=America/Chicago:20260321T090000
DTEND;TZID=America/Chicago:20260321T110000
DTSTAMP:20260425T052401
CREATED:20260311T234435Z
LAST-MODIFIED:20260311T234435Z
UID:1508-1774083600-1774090800@kearneywhitewater.org
SUMMARY:2026 KWA Spring Cleanup
DESCRIPTION:The KWA Spring Cleanup will be held on March 21\, 2026\, from 9 AM – 11 AM. Plan to meet at the Midway Landing parking lot and we will see if there are enough volunteers to cover additional areas besides the whitewater park. Cleanup efforts will target both the 2nd/Central Avenue area\, and if possible the north creek bank near the north RV Park. If you can assist with these cleanup efforts\, please dress to get dirty and bring gloves\, waders\, buckets\, trash grabbers\, etc. Trash bags will be provided. Rain date will be March 28. Contact Bruce Karnatz (308) 627-5268 if you have any questions.
URL:https://kearneywhitewater.org/event/2026-kwa-spring-cleanup/
LOCATION:Midway Landing\, 300 N Central Avenue\, Kearney\, NE
CATEGORIES:Cleanup
END:VEVENT
BEGIN:VEVENT
DTSTART;TZID=America/Chicago:20250322T090000
DTEND;TZID=America/Chicago:20250322T110000
DTSTAMP:20260425T052401
CREATED:20250302T042855Z
LAST-MODIFIED:20250314T200110Z
UID:1260-1742634000-1742641200@kearneywhitewater.org
SUMMARY:2025 Spring Cleanup
DESCRIPTION:The annual trash cleanup will be held on March 22\, 2025 from 9AM – 11AM. Plan to meet at the Midway Landing parking lot\, 229 Central Avenue. The focus of cleanup efforts will be around the Second Avenue area. If you can assist with these cleanup efforts\, please plan to bring gloves\, buckets\, trash grabbers\, etc. Trash bags will be provided. Depending on how many participants we have\, we may be able to clean up additional areas. Contact Duane Franzluebbers if you have any questions.
URL:https://kearneywhitewater.org/event/2025-spring-cleanup/
LOCATION:Kearney Water Trail
CATEGORIES:Cleanup
END:VEVENT
BEGIN:VEVENT
DTSTART;TZID=America/Chicago:20240406T090000
DTEND;TZID=America/Chicago:20240406T120000
DTSTAMP:20260425T052401
CREATED:20240320T195032Z
LAST-MODIFIED:20240403T231237Z
UID:1171-1712394000-1712404800@kearneywhitewater.org
SUMMARY:2024 Spring Cleanup
DESCRIPTION:
URL:https://kearneywhitewater.org/event/2024-spring-cleanup/
LOCATION:Yanney Landing\, 1743 W 11th St\, Kearney\, NE\, 68845\, United States
CATEGORIES:Cleanup
END:VEVENT
BEGIN:VEVENT
DTSTART;TZID=America/Chicago:20230401T090000
DTEND;TZID=America/Chicago:20230401T120000
DTSTAMP:20260425T052401
CREATED:20230412T162230Z
LAST-MODIFIED:20230412T162230Z
UID:1091-1680339600-1680350400@kearneywhitewater.org
SUMMARY:2023 Spring Cleanup
DESCRIPTION:
URL:https://kearneywhitewater.org/event/2023-spring-cleanup/
LOCATION:Kearney Whitewater Park\, 300 N 2nd Avenue\, Kearney\, NE\, 68845
CATEGORIES:Cleanup
END:VEVENT
BEGIN:VEVENT
DTSTART;TZID=America/Chicago:20220327T110000
DTEND;TZID=America/Chicago:20220327T130000
DTSTAMP:20260425T052401
CREATED:20220324T035728Z
LAST-MODIFIED:20220324T035728Z
UID:964-1648378800-1648386000@kearneywhitewater.org
SUMMARY:2022 Spring Cleanup
DESCRIPTION:
URL:https://kearneywhitewater.org/event/2022-spring-cleanup/
LOCATION:Ramada Inn south parking lot\, 301 2nd Ave\, Kearney\, NE\, 68847\, United States
CATEGORIES:Cleanup
END:VEVENT
BEGIN:VEVENT
DTSTART;TZID=America/Chicago:20210601T173000
DTEND;TZID=America/Chicago:20210601T193000
DTSTAMP:20260425T052401
CREATED:20210527T050016Z
LAST-MODIFIED:20210527T050016Z
UID:810-1622568600-1622575800@kearneywhitewater.org
SUMMARY:June Trash Pickup
DESCRIPTION:We are teaming up with the Kearney Dawn Rotary to remove more trash and debris left from the 2019 flood near and around both the hike/bike trail and the water trail.
URL:https://kearneywhitewater.org/event/june-trash-pickup/
LOCATION:NE
CATEGORIES:Cleanup
END:VEVENT
BEGIN:VEVENT
DTSTART;TZID=America/Chicago:20210501T100000
DTEND;TZID=America/Chicago:20210501T120000
DTSTAMP:20260425T052401
CREATED:20210428T025246Z
LAST-MODIFIED:20210428T025246Z
UID:761-1619863200-1619870400@kearneywhitewater.org
SUMMARY:KWA Trash Float May 1
DESCRIPTION:
URL:https://kearneywhitewater.org/event/kwa-trash-float-may-1/
LOCATION:NE
CATEGORIES:Cleanup
END:VEVENT
END:VCALENDAR