BEGIN:VCALENDAR
VERSION:2.0
PRODID:-//Kearney Whitewater Association - ECPv6.15.20//NONSGML v1.0//EN
CALSCALE:GREGORIAN
METHOD:PUBLISH
X-WR-CALNAME:Kearney Whitewater Association
X-ORIGINAL-URL:https://kearneywhitewater.org
X-WR-CALDESC:Events for Kearney Whitewater Association
REFRESH-INTERVAL;VALUE=DURATION:PT1H
X-Robots-Tag:noindex
X-PUBLISHED-TTL:PT1H
BEGIN:VTIMEZONE
TZID:America/Chicago
BEGIN:DAYLIGHT
TZOFFSETFROM:-0600
TZOFFSETTO:-0500
TZNAME:CDT
DTSTART:20200308T080000
END:DAYLIGHT
BEGIN:STANDARD
TZOFFSETFROM:-0500
TZOFFSETTO:-0600
TZNAME:CST
DTSTART:20201101T070000
END:STANDARD
BEGIN:DAYLIGHT
TZOFFSETFROM:-0600
TZOFFSETTO:-0500
TZNAME:CDT
DTSTART:20210314T080000
END:DAYLIGHT
BEGIN:STANDARD
TZOFFSETFROM:-0500
TZOFFSETTO:-0600
TZNAME:CST
DTSTART:20211107T070000
END:STANDARD
BEGIN:DAYLIGHT
TZOFFSETFROM:-0600
TZOFFSETTO:-0500
TZNAME:CDT
DTSTART:20220313T080000
END:DAYLIGHT
BEGIN:STANDARD
TZOFFSETFROM:-0500
TZOFFSETTO:-0600
TZNAME:CST
DTSTART:20221106T070000
END:STANDARD
BEGIN:DAYLIGHT
TZOFFSETFROM:-0600
TZOFFSETTO:-0500
TZNAME:CDT
DTSTART:20230312T080000
END:DAYLIGHT
BEGIN:STANDARD
TZOFFSETFROM:-0500
TZOFFSETTO:-0600
TZNAME:CST
DTSTART:20231105T070000
END:STANDARD
BEGIN:DAYLIGHT
TZOFFSETFROM:-0600
TZOFFSETTO:-0500
TZNAME:CDT
DTSTART:20240310T080000
END:DAYLIGHT
BEGIN:STANDARD
TZOFFSETFROM:-0500
TZOFFSETTO:-0600
TZNAME:CST
DTSTART:20241103T070000
END:STANDARD
BEGIN:DAYLIGHT
TZOFFSETFROM:-0600
TZOFFSETTO:-0500
TZNAME:CDT
DTSTART:20250309T080000
END:DAYLIGHT
BEGIN:STANDARD
TZOFFSETFROM:-0500
TZOFFSETTO:-0600
TZNAME:CST
DTSTART:20251102T070000
END:STANDARD
BEGIN:DAYLIGHT
TZOFFSETFROM:-0600
TZOFFSETTO:-0500
TZNAME:CDT
DTSTART:20260308T080000
END:DAYLIGHT
BEGIN:STANDARD
TZOFFSETFROM:-0500
TZOFFSETTO:-0600
TZNAME:CST
DTSTART:20261101T070000
END:STANDARD
END:VTIMEZONE
BEGIN:VEVENT
DTSTART;TZID=America/Chicago:20250905T080000
DTEND;TZID=America/Chicago:20250907T170000
DTSTAMP:20260423T172804
CREATED:20250302T060127Z
LAST-MODIFIED:20250302T060213Z
UID:1281-1757059200-1757264400@kearneywhitewater.org
SUMMARY:Niobrara River
DESCRIPTION:
URL:https://kearneywhitewater.org/event/niobrara-river-2/
LOCATION:Niobrara National Scenic River
CATEGORIES:Float Trip
END:VEVENT
BEGIN:VEVENT
DTSTART;TZID=America/Chicago:20250816T110000
DTEND;TZID=America/Chicago:20250816T160000
DTSTAMP:20260423T172804
CREATED:20250516T171030Z
LAST-MODIFIED:20250815T214118Z
UID:1324-1755342000-1755360000@kearneywhitewater.org
SUMMARY:Republican River Paddle-Canceled
DESCRIPTION:
URL:https://kearneywhitewater.org/event/republican-river-paddle/
LOCATION:Republican River
CATEGORIES:Float Trip
END:VEVENT
BEGIN:VEVENT
DTSTART;TZID=America/Chicago:20250725T130000
DTEND;TZID=America/Chicago:20250727T120000
DTSTAMP:20260423T172804
CREATED:20250608T235148Z
LAST-MODIFIED:20250608T235701Z
UID:1332-1753448400-1753617600@kearneywhitewater.org
SUMMARY:2025 Annual Sandhills floats on the Cedar and Calamus Rivers
DESCRIPTION:
URL:https://kearneywhitewater.org/event/2025-annual-sandhills-floats-on-the-cedar-and-calamus-rivers/
LOCATION:Calamus River
CATEGORIES:Float Trip
END:VEVENT
BEGIN:VEVENT
DTSTART;TZID=America/Chicago:20250516T080000
DTEND;TZID=America/Chicago:20250518T170000
DTSTAMP:20260423T172804
CREATED:20250302T043327Z
LAST-MODIFIED:20250302T043327Z
UID:1264-1747382400-1747587600@kearneywhitewater.org
SUMMARY:Niobrara River
DESCRIPTION:
URL:https://kearneywhitewater.org/event/niobrara-river/
LOCATION:Niobrara National Scenic River
CATEGORIES:Float Trip
END:VEVENT
BEGIN:VEVENT
DTSTART;TZID=America/Chicago:20240906T080000
DTEND;TZID=America/Chicago:20240908T170000
DTSTAMP:20260423T172804
CREATED:20240611T153737Z
LAST-MODIFIED:20240611T153911Z
UID:1189-1725609600-1725814800@kearneywhitewater.org
SUMMARY:Niobrara River Float 24
DESCRIPTION:
URL:https://kearneywhitewater.org/event/niobrara-river-float-24/
LOCATION:Niobrara National Scenic River
CATEGORIES:Float Trip
END:VEVENT
BEGIN:VEVENT
DTSTART;TZID=America/Chicago:20240816T080000
DTEND;TZID=America/Chicago:20240818T170000
DTSTAMP:20260423T172804
CREATED:20240611T155935Z
LAST-MODIFIED:20240611T160037Z
UID:1195-1723795200-1724000400@kearneywhitewater.org
SUMMARY:Calamus and Cedar River Trip 24
DESCRIPTION:
URL:https://kearneywhitewater.org/event/calamus-and-cedar-river-trip-2/
LOCATION:Calamus River
CATEGORIES:Float Trip
END:VEVENT
BEGIN:VEVENT
DTSTART;TZID=America/Chicago:20240720T100000
DTEND;TZID=America/Chicago:20240720T200000
DTSTAMP:20260423T172804
CREATED:20240719T182642Z
LAST-MODIFIED:20240719T182642Z
UID:1218-1721469600-1721505600@kearneywhitewater.org
SUMMARY:North Fork Whitewater
DESCRIPTION:Join the Members of Sioux Empire Paddlers as they are planning an excursion there on July 20 so any KWA members are welcome to meet up with them on Saturday morning. You can bring kayaks\, canoes\, tubes\, boogie boards\, or paddle boards to this venue. Rentals are also available. Contact Dennis James DeJong or Toni Moriston for more information.
URL:https://kearneywhitewater.org/event/north-fork-whitewater/
LOCATION:North Fork Whitewater\, Norfolk\, NE\, United States
CATEGORIES:Float Trip
END:VEVENT
BEGIN:VEVENT
DTSTART;TZID=America/Chicago:20230909T150000
DTEND;TZID=America/Chicago:20230909T170000
DTSTAMP:20260423T172804
CREATED:20230913T203823Z
LAST-MODIFIED:20230913T203823Z
UID:1147-1694271600-1694278800@kearneywhitewater.org
SUMMARY:Jimmy Buffett Margarita Float
DESCRIPTION:
URL:https://kearneywhitewater.org/event/jimmy-buffett-margarita-float/
LOCATION:Kearney Water Trail
CATEGORIES:Float Trip
END:VEVENT
BEGIN:VEVENT
DTSTART;TZID=America/Chicago:20230909T100000
DTEND;TZID=America/Chicago:20230909T170000
DTSTAMP:20260423T172804
CREATED:20230412T011616Z
LAST-MODIFIED:20230412T011616Z
UID:1067-1694253600-1694278800@kearneywhitewater.org
SUMMARY:Niobrara River Float
DESCRIPTION:
URL:https://kearneywhitewater.org/event/niobrara-river-float/
LOCATION:Niobrara National Scenic River
CATEGORIES:Float Trip
END:VEVENT
BEGIN:VEVENT
DTSTART;TZID=America/Chicago:20230806T120000
DTEND;TZID=America/Chicago:20230806T170000
DTSTAMP:20260423T172804
CREATED:20230420T044925Z
LAST-MODIFIED:20230420T044925Z
UID:1108-1691323200-1691341200@kearneywhitewater.org
SUMMARY:Republican River Float
DESCRIPTION:
URL:https://kearneywhitewater.org/event/republican-river-float/
LOCATION:Republican River
CATEGORIES:Float Trip
END:VEVENT
BEGIN:VEVENT
DTSTART;VALUE=DATE:20230714
DTEND;VALUE=DATE:20230717
DTSTAMP:20260423T172804
CREATED:20230412T160050Z
LAST-MODIFIED:20240611T160020Z
UID:1069-1689292800-1689551999@kearneywhitewater.org
SUMMARY:Calamus and Cedar River Trip 23
DESCRIPTION:
URL:https://kearneywhitewater.org/event/calamus-and-cedar-river-trip/
LOCATION:Calamus River
CATEGORIES:Float Trip
END:VEVENT
BEGIN:VEVENT
DTSTART;TZID=America/Chicago:20210910T120000
DTEND;TZID=America/Chicago:20210912T120000
DTSTAMP:20260423T172804
CREATED:20210426T145255Z
LAST-MODIFIED:20210811T031738Z
UID:746-1631275200-1631448000@kearneywhitewater.org
SUMMARY:Niobrara Float Fall 2021
DESCRIPTION:
URL:https://kearneywhitewater.org/event/niobrara-float-fall-2021/
CATEGORIES:Float Trip
END:VEVENT
BEGIN:VEVENT
DTSTART;TZID=America/Chicago:20210703T100000
DTEND;TZID=America/Chicago:20210704T150000
DTSTAMP:20260423T172804
CREATED:20210426T145104Z
LAST-MODIFIED:20210426T145104Z
UID:744-1625306400-1625410800@kearneywhitewater.org
SUMMARY:Goat Island Overnight with SEP
DESCRIPTION:
URL:https://kearneywhitewater.org/event/goat-island-overnight-with-sep/
CATEGORIES:Float Trip
END:VEVENT
BEGIN:VEVENT
DTSTART;TZID=America/Chicago:20210611T100000
DTEND;TZID=America/Chicago:20210613T120000
DTSTAMP:20260423T172804
CREATED:20210422T205946Z
LAST-MODIFIED:20210422T205946Z
UID:739-1623405600-1623585600@kearneywhitewater.org
SUMMARY:Niobrara Camp & Float with SEP
DESCRIPTION:Sioux Empire Paddlers have invited KWA members to join them on June 11\, 2021 in a trip down the Niobrara. Plans are to camp at Smith Falls State Park.
URL:https://kearneywhitewater.org/event/niobrara-camp-float-with-sep/
CATEGORIES:Float Trip
END:VEVENT
BEGIN:VEVENT
DTSTART;TZID=America/Chicago:20210606T053000
DTEND;TZID=America/Chicago:20210606T090000
DTSTAMP:20260423T172804
CREATED:20210527T045644Z
LAST-MODIFIED:20210527T045644Z
UID:804-1622957400-1622970000@kearneywhitewater.org
SUMMARY:Calamus River Sunrise Float - June 2021
DESCRIPTION:
URL:https://kearneywhitewater.org/event/calamus-river-sunrise-float-june-2021/
LOCATION:Calamus River
CATEGORIES:Float Trip
END:VEVENT
BEGIN:VEVENT
DTSTART;TZID=America/Chicago:20210605T110000
DTEND;TZID=America/Chicago:20210605T170000
DTSTAMP:20260423T172804
CREATED:20210422T192009Z
LAST-MODIFIED:20210422T192033Z
UID:735-1622890800-1622912400@kearneywhitewater.org
SUMMARY:Calamus River Trip
DESCRIPTION:Late spring on the Calamus
URL:https://kearneywhitewater.org/event/calamus-river-trip/
CATEGORIES:Float Trip
END:VEVENT
BEGIN:VEVENT
DTSTART;TZID=America/Chicago:20210604T130000
DTEND;TZID=America/Chicago:20210604T160000
DTSTAMP:20260423T172804
CREATED:20210527T045231Z
LAST-MODIFIED:20210527T045416Z
UID:800-1622811600-1622822400@kearneywhitewater.org
SUMMARY:Cedar River Trip 2021
DESCRIPTION:
URL:https://kearneywhitewater.org/event/cedar-river-trip-2021/
CATEGORIES:Float Trip
END:VEVENT
BEGIN:VEVENT
DTSTART;TZID=America/Chicago:20210424T100000
DTEND;TZID=America/Chicago:20210424T180000
DTSTAMP:20260423T172804
CREATED:20210422T035409Z
LAST-MODIFIED:20210422T192112Z
UID:725-1619258400-1619287200@kearneywhitewater.org
SUMMARY:Niobrara River Trip
DESCRIPTION:KWA spring on the Niobrara
URL:https://kearneywhitewater.org/event/niobrara-river-trip/
LOCATION:Niobrara National Scenic River
CATEGORIES:Float Trip
END:VEVENT
END:VCALENDAR