BEGIN:VCALENDAR
VERSION:2.0
PRODID:-//Kearney Whitewater Association - ECPv6.15.20//NONSGML v1.0//EN
CALSCALE:GREGORIAN
METHOD:PUBLISH
X-WR-CALNAME:Kearney Whitewater Association
X-ORIGINAL-URL:https://kearneywhitewater.org
X-WR-CALDESC:Events for Kearney Whitewater Association
REFRESH-INTERVAL;VALUE=DURATION:PT1H
X-Robots-Tag:noindex
X-PUBLISHED-TTL:PT1H
BEGIN:VTIMEZONE
TZID:America/Chicago
BEGIN:DAYLIGHT
TZOFFSETFROM:-0600
TZOFFSETTO:-0500
TZNAME:CDT
DTSTART:20240310T080000
END:DAYLIGHT
BEGIN:STANDARD
TZOFFSETFROM:-0500
TZOFFSETTO:-0600
TZNAME:CST
DTSTART:20241103T070000
END:STANDARD
BEGIN:DAYLIGHT
TZOFFSETFROM:-0600
TZOFFSETTO:-0500
TZNAME:CDT
DTSTART:20250309T080000
END:DAYLIGHT
BEGIN:STANDARD
TZOFFSETFROM:-0500
TZOFFSETTO:-0600
TZNAME:CST
DTSTART:20251102T070000
END:STANDARD
BEGIN:DAYLIGHT
TZOFFSETFROM:-0600
TZOFFSETTO:-0500
TZNAME:CDT
DTSTART:20260308T080000
END:DAYLIGHT
BEGIN:STANDARD
TZOFFSETFROM:-0500
TZOFFSETTO:-0600
TZNAME:CST
DTSTART:20261101T070000
END:STANDARD
END:VTIMEZONE
BEGIN:VEVENT
DTSTART;TZID=America/Chicago:20251012T133000
DTEND;TZID=America/Chicago:20251012T160000
DTSTAMP:20260423T220051
CREATED:20251012T153017Z
LAST-MODIFIED:20251012T153925Z
UID:1402-1760275800-1760284800@kearneywhitewater.org
SUMMARY:Fall Float 2025/10/12 - Free!
DESCRIPTION:Sunday afternoon float. Meet at or leave a drop vehicle at Kearney Paddle Sports at 535 M Ave\, follow the sign on M Avenue\, east 1/2 mile thru the RV park. Come early and catch a ride if you don’t have a drop vehicle or come to the landing at the northeast corner of Yanney Park and float with us. If you can’t swing a ride there will be plenty of folks to get a shuttle with from either end. Join us and be prepared to launch at 1:30 pm from Yanney. There will likely be an opportunity to hang out afterwards\, maybe at a local establishment. Come enjoy one of the last floats of the season. The weather is supposed to be 80 and sunny!
URL:https://kearneywhitewater.org/event/fall-float/
LOCATION:Kearney Water Trail
CATEGORIES:Local float
END:VEVENT
END:VCALENDAR