BEGIN:VCALENDAR
VERSION:2.0
PRODID:-//Kearney Whitewater Association - ECPv6.15.20//NONSGML v1.0//EN
CALSCALE:GREGORIAN
METHOD:PUBLISH
X-WR-CALNAME:Kearney Whitewater Association
X-ORIGINAL-URL:https://kearneywhitewater.org
X-WR-CALDESC:Events for Kearney Whitewater Association
REFRESH-INTERVAL;VALUE=DURATION:PT1H
X-Robots-Tag:noindex
X-PUBLISHED-TTL:PT1H
BEGIN:VTIMEZONE
TZID:America/Chicago
BEGIN:DAYLIGHT
TZOFFSETFROM:-0600
TZOFFSETTO:-0500
TZNAME:CDT
DTSTART:20200308T080000
END:DAYLIGHT
BEGIN:STANDARD
TZOFFSETFROM:-0500
TZOFFSETTO:-0600
TZNAME:CST
DTSTART:20201101T070000
END:STANDARD
BEGIN:DAYLIGHT
TZOFFSETFROM:-0600
TZOFFSETTO:-0500
TZNAME:CDT
DTSTART:20210314T080000
END:DAYLIGHT
BEGIN:STANDARD
TZOFFSETFROM:-0500
TZOFFSETTO:-0600
TZNAME:CST
DTSTART:20211107T070000
END:STANDARD
BEGIN:DAYLIGHT
TZOFFSETFROM:-0600
TZOFFSETTO:-0500
TZNAME:CDT
DTSTART:20220313T080000
END:DAYLIGHT
BEGIN:STANDARD
TZOFFSETFROM:-0500
TZOFFSETTO:-0600
TZNAME:CST
DTSTART:20221106T070000
END:STANDARD
BEGIN:DAYLIGHT
TZOFFSETFROM:-0600
TZOFFSETTO:-0500
TZNAME:CDT
DTSTART:20230312T080000
END:DAYLIGHT
BEGIN:STANDARD
TZOFFSETFROM:-0500
TZOFFSETTO:-0600
TZNAME:CST
DTSTART:20231105T070000
END:STANDARD
BEGIN:DAYLIGHT
TZOFFSETFROM:-0600
TZOFFSETTO:-0500
TZNAME:CDT
DTSTART:20240310T080000
END:DAYLIGHT
BEGIN:STANDARD
TZOFFSETFROM:-0500
TZOFFSETTO:-0600
TZNAME:CST
DTSTART:20241103T070000
END:STANDARD
BEGIN:DAYLIGHT
TZOFFSETFROM:-0600
TZOFFSETTO:-0500
TZNAME:CDT
DTSTART:20250309T080000
END:DAYLIGHT
BEGIN:STANDARD
TZOFFSETFROM:-0500
TZOFFSETTO:-0600
TZNAME:CST
DTSTART:20251102T070000
END:STANDARD
BEGIN:DAYLIGHT
TZOFFSETFROM:-0600
TZOFFSETTO:-0500
TZNAME:CDT
DTSTART:20260308T080000
END:DAYLIGHT
BEGIN:STANDARD
TZOFFSETFROM:-0500
TZOFFSETTO:-0600
TZNAME:CST
DTSTART:20261101T070000
END:STANDARD
END:VTIMEZONE
BEGIN:VEVENT
DTSTART;TZID=America/Chicago:20250802T140000
DTEND;TZID=America/Chicago:20250802T160000
DTSTAMP:20260423T172926
CREATED:20250302T060040Z
LAST-MODIFIED:20250702T045322Z
UID:1279-1754143200-1754150400@kearneywhitewater.org
SUMMARY:Cardboard Boat Regatta
DESCRIPTION:Build a boat and join us at the Kearney Whitewater Park for an afternoon of fun!\nOnly 4 rules.1. Everyone must wear a helmet2. Everyone must wear a PFD3. Wear water shoes (no flipflops)4. Must be 13 or older to ride in or captain a boat.\nYou may have multiple crew members in your boat.\nNEW THIS YEAR!Kids and adults alike can show up at 1pm and build your own small (shoebox) unmanned boat. We will provide all the materials needed for these boats. The unmanned boats will float (or not) at 2pm just before the main event.\nThe boats will begin their voyage from the boat ramp on the South side of the creek next to Pizza Ranch\, and exit at the boat ramp located at Central Avenue. Parking is available at the Cinema 8 theater.
URL:https://kearneywhitewater.org/event/cardboard-boat-regatta-3/
LOCATION:Kearney Whitewater Park\, 300 N 2nd Avenue\, Kearney\, NE\, 68845
CATEGORIES:Regatta
END:VEVENT
BEGIN:VEVENT
DTSTART;TZID=America/Chicago:20240803T140000
DTEND;TZID=America/Chicago:20240803T150000
DTSTAMP:20260423T172926
CREATED:20240611T152918Z
LAST-MODIFIED:20240611T160116Z
UID:1185-1722693600-1722697200@kearneywhitewater.org
SUMMARY:Cardboard Boat Regatta 24
DESCRIPTION:
URL:https://kearneywhitewater.org/event/cardboard-boat-regatta-2/
LOCATION:Kearney Whitewater Park\, 300 N 2nd Avenue\, Kearney\, NE\, 68845
CATEGORIES:Regatta
END:VEVENT
BEGIN:VEVENT
DTSTART;TZID=America/Chicago:20230805T130000
DTEND;TZID=America/Chicago:20230805T170000
DTSTAMP:20260423T172926
CREATED:20230412T011022Z
LAST-MODIFIED:20230412T011022Z
UID:1059-1691240400-1691254800@kearneywhitewater.org
SUMMARY:Cardboard Boat Regatta
DESCRIPTION:
URL:https://kearneywhitewater.org/event/cardboard-boat-regatta/
LOCATION:Kearney Whitewater Park\, 300 N 2nd Avenue\, Kearney\, NE\, 68845
CATEGORIES:Regatta
END:VEVENT
BEGIN:VEVENT
DTSTART;TZID=America/Chicago:20210814T140000
DTEND;TZID=America/Chicago:20210814T170000
DTSTAMP:20260423T172926
CREATED:20210602T041300Z
LAST-MODIFIED:20210810T142739Z
UID:820-1628949600-1628960400@kearneywhitewater.org
SUMMARY:Cardboard Boat Regatta-2021
DESCRIPTION:Saturday\, August 14th at 2:00 pm. Entry will be south of the Kearney Cinema 8 movie theater by the pedestrian bridge. Exit\, if you make it that far\, will be the public landing by Midway. Ages 16 and up\, a captain is required to be onboard your craft. Ages 15 and under will just be boats (no captain or passengers). Helmet required for captain/passengers (bike helmet\, football helmet\, Viking helmet\, whatever).\nBoats should be constructed with cardboard. Please only use non toxic materials. No entry fee.\nThis route is where the new Whitewater Park will be constructed later this year.\nSo grab your family and friends and join in the fun. Hope to see you there! \nQuestions? Email us at info@kearneywhitewater.org
URL:https://kearneywhitewater.org/event/cardboard-boat-regatta-2021/
LOCATION:Kearney Water Trail
CATEGORIES:Regatta
END:VEVENT
END:VCALENDAR