BEGIN:VCALENDAR
VERSION:2.0
PRODID:-//Kearney Whitewater Association - ECPv6.15.20//NONSGML v1.0//EN
CALSCALE:GREGORIAN
METHOD:PUBLISH
X-WR-CALNAME:Kearney Whitewater Association
X-ORIGINAL-URL:https://kearneywhitewater.org
X-WR-CALDESC:Events for Kearney Whitewater Association
REFRESH-INTERVAL;VALUE=DURATION:PT1H
X-Robots-Tag:noindex
X-PUBLISHED-TTL:PT1H
BEGIN:VTIMEZONE
TZID:America/Chicago
BEGIN:DAYLIGHT
TZOFFSETFROM:-0600
TZOFFSETTO:-0500
TZNAME:CDT
DTSTART:20230312T080000
END:DAYLIGHT
BEGIN:STANDARD
TZOFFSETFROM:-0500
TZOFFSETTO:-0600
TZNAME:CST
DTSTART:20231105T070000
END:STANDARD
BEGIN:DAYLIGHT
TZOFFSETFROM:-0600
TZOFFSETTO:-0500
TZNAME:CDT
DTSTART:20240310T080000
END:DAYLIGHT
BEGIN:STANDARD
TZOFFSETFROM:-0500
TZOFFSETTO:-0600
TZNAME:CST
DTSTART:20241103T070000
END:STANDARD
BEGIN:DAYLIGHT
TZOFFSETFROM:-0600
TZOFFSETTO:-0500
TZNAME:CDT
DTSTART:20250309T080000
END:DAYLIGHT
BEGIN:STANDARD
TZOFFSETFROM:-0500
TZOFFSETTO:-0600
TZNAME:CST
DTSTART:20251102T070000
END:STANDARD
BEGIN:DAYLIGHT
TZOFFSETFROM:-0600
TZOFFSETTO:-0500
TZNAME:CDT
DTSTART:20260308T080000
END:DAYLIGHT
BEGIN:STANDARD
TZOFFSETFROM:-0500
TZOFFSETTO:-0600
TZNAME:CST
DTSTART:20261101T070000
END:STANDARD
END:VTIMEZONE
BEGIN:VEVENT
DTSTART;TZID=America/Chicago:20250610T080000
DTEND;TZID=America/Chicago:20250624T235900
DTSTAMP:20260423T175212
CREATED:20250612T163741Z
LAST-MODIFIED:20250612T164551Z
UID:1363-1749542400-1750809540@kearneywhitewater.org
SUMMARY:KEARNEY WHITEWATER ONLINE APPAREL STORE
DESCRIPTION:https://kww2025.itemorder.com/shop/home \n 
URL:https://kearneywhitewater.org/event/kearney-whitewater-online-apparel-store/
LOCATION:Fearless Ink\, 2114 Central Ave\, Kearney\, NE\, 68847
CATEGORIES:Shopping
END:VEVENT
BEGIN:VEVENT
DTSTART;TZID=America/Chicago:20250609T190000
DTEND;TZID=America/Chicago:20250609T210000
DTSTAMP:20260423T175212
CREATED:20250304T175432Z
LAST-MODIFIED:20250304T175432Z
UID:1286-1749495600-1749502800@kearneywhitewater.org
SUMMARY:June 2025 Board Meeting
DESCRIPTION:
URL:https://kearneywhitewater.org/event/june-2025-board-meeting/
CATEGORIES:Board Meeting
END:VEVENT
BEGIN:VEVENT
DTSTART;TZID=America/Chicago:20250607T120000
DTEND;TZID=America/Chicago:20250607T150000
DTSTAMP:20260423T175212
CREATED:20250302T055451Z
LAST-MODIFIED:20250302T060350Z
UID:1271-1749297600-1749308400@kearneywhitewater.org
SUMMARY:Yanney Heritage Day
DESCRIPTION:
URL:https://kearneywhitewater.org/event/yanney-heritage-day/
LOCATION:Yanney Marina
CATEGORIES:Public Outreach
END:VEVENT
BEGIN:VEVENT
DTSTART;TZID=America/Chicago:20250601T143000
DTEND;TZID=America/Chicago:20250601T180000
DTSTAMP:20260423T175212
CREATED:20250601T163640Z
LAST-MODIFIED:20250601T163640Z
UID:1328-1748788200-1748800800@kearneywhitewater.org
SUMMARY:Platte River Float
DESCRIPTION:
URL:https://kearneywhitewater.org/event/platte-river-float-2/
LOCATION:Platte River
CATEGORIES:Local float
END:VEVENT
BEGIN:VEVENT
DTSTART;TZID=America/Chicago:20250521T183000
DTEND;TZID=America/Chicago:20250521T200000
DTSTAMP:20260423T175212
CREATED:20250515T232349Z
LAST-MODIFIED:20250515T232349Z
UID:1322-1747852200-1747857600@kearneywhitewater.org
SUMMARY:Kearney Paddle Night #1 at Cottonmill Park
DESCRIPTION:We’d like to create some very informal meet-ups to paddle this season at some area lakes. Here’s your chance to get in on our first Paddle Night! No formal plans or programming. Bring your own kayak\, canoe\, paddle board\, etc. and life jacket to get out on the water or hang out on the banks and visit with friends. These meet-ups are open to anyone\, so spread the word. We’re hoping to designate these evenings every so often when the weather looks favorable for a great opportunity to get out and paddle. Hope to see you at Cottonmill Park for Paddle Night #1!\nPS—This event will also be posted on the Kearney Whitewater Park page so it is viewable by all. Feel free to like\, share\, and encourage others to paddle!
URL:https://kearneywhitewater.org/event/kearney-paddle-night-1-at-cottonmill-park/
LOCATION:Cottonmill Lake
END:VEVENT
BEGIN:VEVENT
DTSTART;TZID=America/Chicago:20250516T080000
DTEND;TZID=America/Chicago:20250518T170000
DTSTAMP:20260423T175212
CREATED:20250302T043327Z
LAST-MODIFIED:20250302T043327Z
UID:1264-1747382400-1747587600@kearneywhitewater.org
SUMMARY:Niobrara River
DESCRIPTION:
URL:https://kearneywhitewater.org/event/niobrara-river/
LOCATION:Niobrara National Scenic River
CATEGORIES:Float Trip
END:VEVENT
BEGIN:VEVENT
DTSTART;TZID=America/Chicago:20250512T190000
DTEND;TZID=America/Chicago:20250512T210000
DTSTAMP:20260423T175212
CREATED:20250302T060303Z
LAST-MODIFIED:20250302T060303Z
UID:1283-1747076400-1747083600@kearneywhitewater.org
SUMMARY:May 2025 Board Meeting
DESCRIPTION:
URL:https://kearneywhitewater.org/event/may-2025-board-meeting/
CATEGORIES:Board Meeting
END:VEVENT
BEGIN:VEVENT
DTSTART;TZID=America/Chicago:20250508T080000
DTEND;TZID=America/Chicago:20250509T150000
DTSTAMP:20260423T175212
CREATED:20250302T043204Z
LAST-MODIFIED:20250311T225509Z
UID:1262-1746691200-1746802800@kearneywhitewater.org
SUMMARY:Ft. Kearny Outdoor Expo
DESCRIPTION:
URL:https://kearneywhitewater.org/event/ft-kearny-outdoor-expo/
LOCATION:Fort Kearny State Recreational Area
CATEGORIES:Public Outreach
END:VEVENT
BEGIN:VEVENT
DTSTART;TZID=America/Chicago:20250414T190000
DTEND;TZID=America/Chicago:20250414T210000
DTSTAMP:20260423T175212
CREATED:20250302T042715Z
LAST-MODIFIED:20250302T042715Z
UID:1258-1744657200-1744664400@kearneywhitewater.org
SUMMARY:April 2025 KWA Board Meeting
DESCRIPTION:
URL:https://kearneywhitewater.org/event/april-2025-kwa-board-meeting/
CATEGORIES:Board Meeting
END:VEVENT
BEGIN:VEVENT
DTSTART;TZID=America/Chicago:20250322T090000
DTEND;TZID=America/Chicago:20250322T110000
DTSTAMP:20260423T175212
CREATED:20250302T042855Z
LAST-MODIFIED:20250314T200110Z
UID:1260-1742634000-1742641200@kearneywhitewater.org
SUMMARY:2025 Spring Cleanup
DESCRIPTION:The annual trash cleanup will be held on March 22\, 2025 from 9AM – 11AM. Plan to meet at the Midway Landing parking lot\, 229 Central Avenue. The focus of cleanup efforts will be around the Second Avenue area. If you can assist with these cleanup efforts\, please plan to bring gloves\, buckets\, trash grabbers\, etc. Trash bags will be provided. Depending on how many participants we have\, we may be able to clean up additional areas. Contact Duane Franzluebbers if you have any questions.
URL:https://kearneywhitewater.org/event/2025-spring-cleanup/
LOCATION:Kearney Water Trail
CATEGORIES:Cleanup
END:VEVENT
BEGIN:VEVENT
DTSTART;TZID=America/Chicago:20250310T190000
DTEND;TZID=America/Chicago:20250310T210000
DTSTAMP:20260423T175212
CREATED:20250106T181453Z
LAST-MODIFIED:20250106T181453Z
UID:1254-1741633200-1741640400@kearneywhitewater.org
SUMMARY:March 2025 KWA Board Meeting
DESCRIPTION:
URL:https://kearneywhitewater.org/event/march-2025-kwa-board-meeting/
CATEGORIES:Board Meeting
END:VEVENT
BEGIN:VEVENT
DTSTART;TZID=America/Chicago:20250227T190000
DTEND;TZID=America/Chicago:20250227T210000
DTSTAMP:20260423T175212
CREATED:20250106T181330Z
LAST-MODIFIED:20250106T181330Z
UID:1252-1740682800-1740690000@kearneywhitewater.org
SUMMARY:2025 KWA Annual Meeting
DESCRIPTION:
URL:https://kearneywhitewater.org/event/2025-kwa-annual-meeting/
CATEGORIES:Annual Meeting
END:VEVENT
BEGIN:VEVENT
DTSTART;TZID=America/Chicago:20250210T190000
DTEND;TZID=America/Chicago:20250210T210000
DTSTAMP:20260423T175212
CREATED:20250106T181211Z
LAST-MODIFIED:20250106T181211Z
UID:1250-1739214000-1739221200@kearneywhitewater.org
SUMMARY:February 2025 KWA Board Meeting
DESCRIPTION:
URL:https://kearneywhitewater.org/event/february-2025-kwa-board-meeting/
LOCATION:Ashley Furniture
CATEGORIES:Board Meeting
END:VEVENT
BEGIN:VEVENT
DTSTART;TZID=America/Chicago:20250123T180000
DTEND;TZID=America/Chicago:20250123T220000
DTSTAMP:20260423T175212
CREATED:20250106T180431Z
LAST-MODIFIED:20250106T180431Z
UID:1246-1737655200-1737669600@kearneywhitewater.org
SUMMARY:2025 KWA Winter Social
DESCRIPTION:
URL:https://kearneywhitewater.org/event/2025-kwa-winter-social/
LOCATION:Chicken Coop\, 2115 Avenue A\, Kearney\, NE\, 68847\, United States
CATEGORIES:Social
END:VEVENT
BEGIN:VEVENT
DTSTART;TZID=America/Chicago:20250113T190000
DTEND;TZID=America/Chicago:20250113T210000
DTSTAMP:20260423T175212
CREATED:20250106T174951Z
LAST-MODIFIED:20250106T174951Z
UID:1244-1736794800-1736802000@kearneywhitewater.org
SUMMARY:January 2025 KWA Board Meeting
DESCRIPTION:
URL:https://kearneywhitewater.org/event/january-2025-kwa-board-meeting/
LOCATION:Ashley Furniture
CATEGORIES:Board Meeting
END:VEVENT
BEGIN:VEVENT
DTSTART;TZID=America/Chicago:20241209T190000
DTEND;TZID=America/Chicago:20241209T203000
DTSTAMP:20260423T175212
CREATED:20240905T211118Z
LAST-MODIFIED:20240905T211333Z
UID:1233-1733770800-1733776200@kearneywhitewater.org
SUMMARY:December 2024 KWA Board Meeting
DESCRIPTION:
URL:https://kearneywhitewater.org/event/december-2024-kwa-board-meeting/
LOCATION:Ashley Furniture
CATEGORIES:Board Meeting
END:VEVENT
BEGIN:VEVENT
DTSTART;TZID=America/Chicago:20241205T180000
DTEND;TZID=America/Chicago:20241205T210000
DTSTAMP:20260423T175212
CREATED:20240905T211421Z
LAST-MODIFIED:20241203T230130Z
UID:1235-1733421600-1733432400@kearneywhitewater.org
SUMMARY:2024 Give Where You Live
DESCRIPTION:Join Kearney Whitewater at the Crafty Dog Sports Bar for a social gathering on December 5\, from 6-9 PM. You will be able to enjoy food and drinks and see what the future holds for local paddling enthusiasts.
URL:https://kearneywhitewater.org/event/2024-give-where-you-live/
LOCATION:The Crafty Dog Sports Bar\, 1325 2nd Ave\, Kearney\, NE\, 68847\, United States
CATEGORIES:Fundraiser
END:VEVENT
BEGIN:VEVENT
DTSTART;TZID=America/Chicago:20241111T190000
DTEND;TZID=America/Chicago:20241111T203000
DTSTAMP:20260423T175212
CREATED:20240905T211029Z
LAST-MODIFIED:20240905T211029Z
UID:1231-1731351600-1731357000@kearneywhitewater.org
SUMMARY:November 2024 KWA Board Meeting
DESCRIPTION:
URL:https://kearneywhitewater.org/event/november-2024-kwa-board-meeting/
LOCATION:Ashley Furniture
CATEGORIES:Board Meeting
END:VEVENT
BEGIN:VEVENT
DTSTART;TZID=America/Chicago:20241014T190000
DTEND;TZID=America/Chicago:20241014T203000
DTSTAMP:20260423T175212
CREATED:20240905T210929Z
LAST-MODIFIED:20240905T210929Z
UID:1229-1728932400-1728937800@kearneywhitewater.org
SUMMARY:October 2024 KWA Board Meeting
DESCRIPTION:
URL:https://kearneywhitewater.org/event/october-2024-kwa-board-meeting/
LOCATION:Ashley Furniture
CATEGORIES:Board Meeting
END:VEVENT
BEGIN:VEVENT
DTSTART;TZID=America/Chicago:20240912T180000
DTEND;TZID=America/Chicago:20240912T210000
DTSTAMP:20260423T175212
CREATED:20240829T172143Z
LAST-MODIFIED:20240829T172143Z
UID:1225-1726164000-1726174800@kearneywhitewater.org
SUMMARY:Float to the Taco Truck
DESCRIPTION:Kearney Paddle Sports would like to invite anyone who is reading this whether you paddle or not. Normally we have several “Float to the Fire” events throughout the year but this one is a step above!! We would like to invite you all to our end of the year party\, if you are floating\, plan on leaving a vehicle at KPS and launching from Yanney Park at 6pm. If you come earlier or later that’s ok also. When we reach the KPS boat ramp there will be a taco truck there to feed the masses so bring a couple bucks\, a lawn chair and a cooler full of your favorite beverages. For those that don’t float or will be later just head on down to the KPS boat ramp behind the RV park at 535 Ave M in Kearney around 7:30 and join in for a campfire and tacos and meet some new friends and say hi to your old friends. Navarette tacos will be on location with some delicious food. Maybe a margarita would be good to bring along with you. (Hint) This is a family friendly event and all are welcome. Come and celebrate the end of summer with us! We look forward to seeing you all there! The winters are long in Nebraska\, don’t miss one of your last chances to enjoy your summer.
URL:https://kearneywhitewater.org/event/float-to-the-taco-truck/
LOCATION:Kearney Paddle Sports
CATEGORIES:Float To The Fire,Local float
END:VEVENT
BEGIN:VEVENT
DTSTART;TZID=America/Chicago:20240909T190000
DTEND;TZID=America/Chicago:20240909T203000
DTSTAMP:20260423T175212
CREATED:20240905T210829Z
LAST-MODIFIED:20240905T210829Z
UID:1227-1725908400-1725913800@kearneywhitewater.org
SUMMARY:September 2024 KWA Board Meeting
DESCRIPTION:
URL:https://kearneywhitewater.org/event/september-2024-kwa-board-meeting/
LOCATION:Ashley Furniture
CATEGORIES:Board Meeting
END:VEVENT
BEGIN:VEVENT
DTSTART;TZID=America/Chicago:20240906T080000
DTEND;TZID=America/Chicago:20240908T170000
DTSTAMP:20260423T175212
CREATED:20240611T153737Z
LAST-MODIFIED:20240611T153911Z
UID:1189-1725609600-1725814800@kearneywhitewater.org
SUMMARY:Niobrara River Float 24
DESCRIPTION:
URL:https://kearneywhitewater.org/event/niobrara-river-float-24/
LOCATION:Niobrara National Scenic River
CATEGORIES:Float Trip
END:VEVENT
BEGIN:VEVENT
DTSTART;TZID=America/Chicago:20240816T080000
DTEND;TZID=America/Chicago:20240818T170000
DTSTAMP:20260423T175212
CREATED:20240611T155935Z
LAST-MODIFIED:20240611T160037Z
UID:1195-1723795200-1724000400@kearneywhitewater.org
SUMMARY:Calamus and Cedar River Trip 24
DESCRIPTION:
URL:https://kearneywhitewater.org/event/calamus-and-cedar-river-trip-2/
LOCATION:Calamus River
CATEGORIES:Float Trip
END:VEVENT
BEGIN:VEVENT
DTSTART;TZID=America/Chicago:20240812T190000
DTEND;TZID=America/Chicago:20240812T210000
DTSTAMP:20260423T175212
CREATED:20240611T194012Z
LAST-MODIFIED:20240611T194012Z
UID:1205-1723489200-1723496400@kearneywhitewater.org
SUMMARY:August 2024 KWA Board Meeting
DESCRIPTION:
URL:https://kearneywhitewater.org/event/august-2024-kwa-board-meeting/
LOCATION:Ashley Furniture
CATEGORIES:Board Meeting
END:VEVENT
BEGIN:VEVENT
DTSTART;TZID=America/Chicago:20240803T140000
DTEND;TZID=America/Chicago:20240803T150000
DTSTAMP:20260423T175212
CREATED:20240611T152918Z
LAST-MODIFIED:20240611T160116Z
UID:1185-1722693600-1722697200@kearneywhitewater.org
SUMMARY:Cardboard Boat Regatta 24
DESCRIPTION:
URL:https://kearneywhitewater.org/event/cardboard-boat-regatta-2/
LOCATION:Kearney Whitewater Park\, 300 N 2nd Avenue\, Kearney\, NE\, 68845
CATEGORIES:Regatta
END:VEVENT
BEGIN:VEVENT
DTSTART;TZID=America/Chicago:20240726T183000
DTEND;TZID=America/Chicago:20240726T230000
DTSTAMP:20260423T175212
CREATED:20240405T162249Z
LAST-MODIFIED:20240719T165027Z
UID:1180-1722018600-1722034800@kearneywhitewater.org
SUMMARY:2024 Flamingo Float to the Fire 🦩
DESCRIPTION:Summertime flies when you’re having fun. The second annual Flamingo Float to the Fire is fast approaching – Friday\, July 26. We will launch from Yanney Park at 6:30 PM and gather the flock and float all the way to Kearney Paddle Sports Landing. Bring your chairs and drinks and we will provide some eats. Flamingo attire and decor are encouraged along with friends. We hope you can join our flock.#FlamingoFloattotheFire
URL:https://kearneywhitewater.org/event/2024-flamingo-float/
LOCATION:Kearney Water Trail
CATEGORIES:Float To The Fire
END:VEVENT
BEGIN:VEVENT
DTSTART;TZID=America/Chicago:20240720T100000
DTEND;TZID=America/Chicago:20240720T200000
DTSTAMP:20260423T175212
CREATED:20240719T182642Z
LAST-MODIFIED:20240719T182642Z
UID:1218-1721469600-1721505600@kearneywhitewater.org
SUMMARY:North Fork Whitewater
DESCRIPTION:Join the Members of Sioux Empire Paddlers as they are planning an excursion there on July 20 so any KWA members are welcome to meet up with them on Saturday morning. You can bring kayaks\, canoes\, tubes\, boogie boards\, or paddle boards to this venue. Rentals are also available. Contact Dennis James DeJong or Toni Moriston for more information.
URL:https://kearneywhitewater.org/event/north-fork-whitewater/
LOCATION:North Fork Whitewater\, Norfolk\, NE\, United States
CATEGORIES:Float Trip
END:VEVENT
BEGIN:VEVENT
DTSTART;TZID=America/Chicago:20240708T190000
DTEND;TZID=America/Chicago:20240708T210000
DTSTAMP:20260423T175212
CREATED:20240611T193919Z
LAST-MODIFIED:20240611T194024Z
UID:1203-1720465200-1720472400@kearneywhitewater.org
SUMMARY:July 2024 KWA Board Meeting
DESCRIPTION:
URL:https://kearneywhitewater.org/event/july-2024-kwa-board-meeting/
LOCATION:Ashley Furniture
CATEGORIES:Board Meeting
END:VEVENT
BEGIN:VEVENT
DTSTART;TZID=America/Chicago:20240509T090000
DTEND;TZID=America/Chicago:20240511T150000
DTSTAMP:20260423T175212
CREATED:20240320T190639Z
LAST-MODIFIED:20240320T190639Z
UID:1167-1715245200-1715439600@kearneywhitewater.org
SUMMARY:Fort Kearny Outdoor Expo
DESCRIPTION:Follow this link to volunteer – https://www.signupgenius.com/go/4090C4DAEAE2EA3FB6-47230921-2024?useFullSite=true#/
URL:https://kearneywhitewater.org/event/fort-kearny-outdoor-expo-24/
LOCATION:Fort Kearny State Recreational Area
CATEGORIES:Public Outreach
END:VEVENT
BEGIN:VEVENT
DTSTART;TZID=America/Chicago:20240406T090000
DTEND;TZID=America/Chicago:20240406T120000
DTSTAMP:20260423T175212
CREATED:20240320T195032Z
LAST-MODIFIED:20240403T231237Z
UID:1171-1712394000-1712404800@kearneywhitewater.org
SUMMARY:2024 Spring Cleanup
DESCRIPTION:
URL:https://kearneywhitewater.org/event/2024-spring-cleanup/
LOCATION:Yanney Landing\, 1743 W 11th St\, Kearney\, NE\, 68845\, United States
CATEGORIES:Cleanup
END:VEVENT
END:VCALENDAR