BEGIN:VCALENDAR
VERSION:2.0
PRODID:-//Kearney Whitewater Association - ECPv6.15.20//NONSGML v1.0//EN
CALSCALE:GREGORIAN
METHOD:PUBLISH
X-WR-CALNAME:Kearney Whitewater Association
X-ORIGINAL-URL:https://kearneywhitewater.org
X-WR-CALDESC:Events for Kearney Whitewater Association
REFRESH-INTERVAL;VALUE=DURATION:PT1H
X-Robots-Tag:noindex
X-PUBLISHED-TTL:PT1H
BEGIN:VTIMEZONE
TZID:America/Chicago
BEGIN:DAYLIGHT
TZOFFSETFROM:-0600
TZOFFSETTO:-0500
TZNAME:CDT
DTSTART:20200308T080000
END:DAYLIGHT
BEGIN:STANDARD
TZOFFSETFROM:-0500
TZOFFSETTO:-0600
TZNAME:CST
DTSTART:20201101T070000
END:STANDARD
BEGIN:DAYLIGHT
TZOFFSETFROM:-0600
TZOFFSETTO:-0500
TZNAME:CDT
DTSTART:20210314T080000
END:DAYLIGHT
BEGIN:STANDARD
TZOFFSETFROM:-0500
TZOFFSETTO:-0600
TZNAME:CST
DTSTART:20211107T070000
END:STANDARD
BEGIN:DAYLIGHT
TZOFFSETFROM:-0600
TZOFFSETTO:-0500
TZNAME:CDT
DTSTART:20220313T080000
END:DAYLIGHT
BEGIN:STANDARD
TZOFFSETFROM:-0500
TZOFFSETTO:-0600
TZNAME:CST
DTSTART:20221106T070000
END:STANDARD
BEGIN:DAYLIGHT
TZOFFSETFROM:-0600
TZOFFSETTO:-0500
TZNAME:CDT
DTSTART:20230312T080000
END:DAYLIGHT
BEGIN:STANDARD
TZOFFSETFROM:-0500
TZOFFSETTO:-0600
TZNAME:CST
DTSTART:20231105T070000
END:STANDARD
END:VTIMEZONE
BEGIN:VEVENT
DTSTART;TZID=America/Chicago:20220519T173000
DTEND;TZID=America/Chicago:20220519T190000
DTSTAMP:20260425T085313
CREATED:20220519T175337Z
LAST-MODIFIED:20220519T175337Z
UID:982-1652981400-1652986800@kearneywhitewater.org
SUMMARY:Kearney Whitewater Park Ribbon Cutting
DESCRIPTION:You are invited to the ribbon cutting for the Kearney Whitewater Park! This special event will take place May 19\, 2022 at 5:30 pm near the Kearney Cinema 8. Plan to be present for this unique experience as we celebrate the grand opening of the first whitewater park in Nebraska. This event will be hosted by the City of Kearney and the Kearney Area Community Foundation. Featured will be representatives from some of the various entities that made this project possible. The ribbon cutting will be followed with demonstrations from some advanced paddlers from the Kearney Whitewater Association. Open the attachment for more information. Thanks to all of you for making this happen!\nHangries LLC\, Food Truck will be on location so plan to arrive hungry\, hang out on the boulders\, and just enjoy the experience. See you there!
URL:https://kearneywhitewater.org/event/kearney-whitewater-park-ribbon-cutting/
LOCATION:Kearney Whitewater Park\, 300 N 2nd Avenue\, Kearney\, NE\, 68845
END:VEVENT
BEGIN:VEVENT
DTSTART;TZID=America/Chicago:20220509T190000
DTEND;TZID=America/Chicago:20220509T210000
DTSTAMP:20260425T085313
CREATED:20220324T040225Z
LAST-MODIFIED:20220324T040225Z
UID:971-1652122800-1652130000@kearneywhitewater.org
SUMMARY:May board meeting
DESCRIPTION:
URL:https://kearneywhitewater.org/event/may-board-meeting-2/
LOCATION:Ashley Furniture
CATEGORIES:Board Meeting
END:VEVENT
BEGIN:VEVENT
DTSTART;TZID=America/Chicago:20220411T190000
DTEND;TZID=America/Chicago:20220411T210000
DTSTAMP:20260425T085313
CREATED:20220324T040051Z
LAST-MODIFIED:20220324T040051Z
UID:968-1649703600-1649710800@kearneywhitewater.org
SUMMARY:April board meeting
DESCRIPTION:
URL:https://kearneywhitewater.org/event/april-board-meeting/
LOCATION:Ashley Furniture
CATEGORIES:Board Meeting
END:VEVENT
BEGIN:VEVENT
DTSTART;TZID=America/Chicago:20220327T110000
DTEND;TZID=America/Chicago:20220327T130000
DTSTAMP:20260425T085313
CREATED:20220324T035728Z
LAST-MODIFIED:20220324T035728Z
UID:964-1648378800-1648386000@kearneywhitewater.org
SUMMARY:2022 Spring Cleanup
DESCRIPTION:
URL:https://kearneywhitewater.org/event/2022-spring-cleanup/
LOCATION:Ramada Inn south parking lot\, 301 2nd Ave\, Kearney\, NE\, 68847\, United States
CATEGORIES:Cleanup
END:VEVENT
BEGIN:VEVENT
DTSTART;TZID=America/Chicago:20220307T190000
DTEND;TZID=America/Chicago:20220307T210000
DTSTAMP:20260425T085313
CREATED:20220226T175714Z
LAST-MODIFIED:20220226T175714Z
UID:943-1646679600-1646686800@kearneywhitewater.org
SUMMARY:March Board Meeting
DESCRIPTION:
URL:https://kearneywhitewater.org/event/march-board-meeting/
LOCATION:Ashley Furniture
CATEGORIES:Board Meeting
END:VEVENT
BEGIN:VEVENT
DTSTART;TZID=America/Chicago:20220222T190000
DTEND;TZID=America/Chicago:20220222T203000
DTSTAMP:20260425T085313
CREATED:20220212T042857Z
LAST-MODIFIED:20220212T042857Z
UID:917-1645556400-1645561800@kearneywhitewater.org
SUMMARY:2022 Annual Meeting
DESCRIPTION:The 2022 Kearney Whitewater Association Annual Meeting will be held February 22\, 2022 at The Kearney Area Chamber of Commerce beginning at 7 PM. The meeting is open to members of the association and also to members of the public. Meeting highlights will include updates on the progress of the Phase II Whitewater Park project.
URL:https://kearneywhitewater.org/event/2022-annual-meeting/
LOCATION:Kearney Area Chamber of Commerce\, 1007 2nd Avenue\, Kearney\, NE\, 68847\, United States
CATEGORIES:Annual Meeting
END:VEVENT
BEGIN:VEVENT
DTSTART;TZID=America/Chicago:20211213T190000
DTEND;TZID=America/Chicago:20211213T210000
DTSTAMP:20260425T085313
CREATED:20210430T150407Z
LAST-MODIFIED:20210430T150425Z
UID:775-1639422000-1639429200@kearneywhitewater.org
SUMMARY:December 2021 Board Meeting
DESCRIPTION:
URL:https://kearneywhitewater.org/event/december-2021-board-meeting/
CATEGORIES:Board Meeting
END:VEVENT
BEGIN:VEVENT
DTSTART;TZID=America/Chicago:20211202T170000
DTEND;TZID=America/Chicago:20211202T200000
DTSTAMP:20260425T085313
CREATED:20210916T221842Z
LAST-MODIFIED:20211022T181227Z
UID:884-1638464400-1638475200@kearneywhitewater.org
SUMMARY:Give Where You Live - 2021
DESCRIPTION:Join Kearney Whitewater at Old Chicago in Kearney to see the latest developments and learn what the future holds for the water trail and the whitewater park.
URL:https://kearneywhitewater.org/event/give-where-you-live-2021/
LOCATION:Old Chicago – Kearney\, 115 2nd Avenue E\, Kearney\, NE\, 68847\, United States
CATEGORIES:Fundraiser
END:VEVENT
BEGIN:VEVENT
DTSTART;TZID=America/Chicago:20211108T190000
DTEND;TZID=America/Chicago:20211108T210000
DTSTAMP:20260425T085313
CREATED:20210430T150233Z
LAST-MODIFIED:20210430T150454Z
UID:772-1636398000-1636405200@kearneywhitewater.org
SUMMARY:November 2021 Board Meeting
DESCRIPTION:
URL:https://kearneywhitewater.org/event/november-2021-board-meeting/
CATEGORIES:Board Meeting
END:VEVENT
BEGIN:VEVENT
DTSTART;TZID=America/Chicago:20211011T190000
DTEND;TZID=America/Chicago:20211011T210000
DTSTAMP:20260425T085313
CREATED:20210430T145847Z
LAST-MODIFIED:20210430T150522Z
UID:770-1633978800-1633986000@kearneywhitewater.org
SUMMARY:October 2021 Board meeting
DESCRIPTION:
URL:https://kearneywhitewater.org/event/october-2021-board-meeting/
CATEGORIES:Board Meeting
END:VEVENT
BEGIN:VEVENT
DTSTART;TZID=America/Chicago:20210913T190000
DTEND;TZID=America/Chicago:20210913T210000
DTSTAMP:20260425T085313
CREATED:20210426T150032Z
LAST-MODIFIED:20210426T150032Z
UID:757-1631559600-1631566800@kearneywhitewater.org
SUMMARY:September 2021 Board meeting
DESCRIPTION:
URL:https://kearneywhitewater.org/event/september-2021-board-meeting/
CATEGORIES:Board Meeting
END:VEVENT
BEGIN:VEVENT
DTSTART;TZID=America/Chicago:20210910T120000
DTEND;TZID=America/Chicago:20210912T120000
DTSTAMP:20260425T085313
CREATED:20210426T145255Z
LAST-MODIFIED:20210811T031738Z
UID:746-1631275200-1631448000@kearneywhitewater.org
SUMMARY:Niobrara Float Fall 2021
DESCRIPTION:
URL:https://kearneywhitewater.org/event/niobrara-float-fall-2021/
CATEGORIES:Float Trip
END:VEVENT
BEGIN:VEVENT
DTSTART;TZID=America/Chicago:20210827T180000
DTEND;TZID=America/Chicago:20210827T220000
DTSTAMP:20260425T085313
CREATED:20210821T035859Z
LAST-MODIFIED:20210821T035859Z
UID:879-1630087200-1630101600@kearneywhitewater.org
SUMMARY:Float To The Fire/ Poker Run 2021
DESCRIPTION:
URL:https://kearneywhitewater.org/event/float-to-the-fire-poker-run-2021/
LOCATION:Kearney Paddle Sports
END:VEVENT
BEGIN:VEVENT
DTSTART;TZID=America/Chicago:20210814T140000
DTEND;TZID=America/Chicago:20210814T170000
DTSTAMP:20260425T085313
CREATED:20210602T041300Z
LAST-MODIFIED:20210810T142739Z
UID:820-1628949600-1628960400@kearneywhitewater.org
SUMMARY:Cardboard Boat Regatta-2021
DESCRIPTION:Saturday\, August 14th at 2:00 pm. Entry will be south of the Kearney Cinema 8 movie theater by the pedestrian bridge. Exit\, if you make it that far\, will be the public landing by Midway. Ages 16 and up\, a captain is required to be onboard your craft. Ages 15 and under will just be boats (no captain or passengers). Helmet required for captain/passengers (bike helmet\, football helmet\, Viking helmet\, whatever).\nBoats should be constructed with cardboard. Please only use non toxic materials. No entry fee.\nThis route is where the new Whitewater Park will be constructed later this year.\nSo grab your family and friends and join in the fun. Hope to see you there! \nQuestions? Email us at info@kearneywhitewater.org
URL:https://kearneywhitewater.org/event/cardboard-boat-regatta-2021/
LOCATION:Kearney Water Trail
CATEGORIES:Regatta
END:VEVENT
BEGIN:VEVENT
DTSTART;TZID=America/Chicago:20210809T190000
DTEND;TZID=America/Chicago:20210809T210000
DTSTAMP:20260425T085313
CREATED:20210426T145909Z
LAST-MODIFIED:20210426T145909Z
UID:755-1628535600-1628542800@kearneywhitewater.org
SUMMARY:August 2021 Board meeting
DESCRIPTION:
URL:https://kearneywhitewater.org/event/august-2021-board-meeting/
CATEGORIES:Board Meeting
END:VEVENT
BEGIN:VEVENT
DTSTART;TZID=America/Chicago:20210729T183000
DTEND;TZID=America/Chicago:20210729T210000
DTSTAMP:20260425T085313
CREATED:20210721T000729Z
LAST-MODIFIED:20210721T000729Z
UID:871-1627583400-1627592400@kearneywhitewater.org
SUMMARY:KWA's Summer Splash Mob 2021
DESCRIPTION:Time to party like its 2014! You’ve heard of a flash mob? This is a “Splash Mob!”\nWe’re trying to break the all-time record for boats (and boards) on the Kearney Water Trail at one time! WE NEED YOUR HELP!\nSince the opening of the Kearney Water Trail\, there’s only a few thousand more boats around town\, and so many more people have enjoyed the calm waters and meandering tree lined green space gliding by. Lets celebrate together by starting a new summertime Kearney tradition\, and setting a record we can be proud of.\nBE PART OF HISTORY – grab your boat\, your board and buddy and meet us at the Yanney park put-in at 6:30pm on Thursday 7/29. Extra credit points for bringing someone new to kayaking or watersports.\n**everyone welcome! **no membership required **BYOB (boat/board/buddy) **Float time from Yanney to Midway estimate at 30-45 minutes. **this is not a sanctioned or organized event\, however we will have members ready to assist to shuttle from the take-out behind Midway Auto. The best plan will be to drop off your boats at Yanney\, then drive to the take-out landing where we can help facilitate rides back to the put-in.
URL:https://kearneywhitewater.org/event/kwas-summer-splash-mob-2021/
LOCATION:Kearney Water Trail
CATEGORIES:Local float
END:VEVENT
BEGIN:VEVENT
DTSTART;TZID=America/Chicago:20210712T190000
DTEND;TZID=America/Chicago:20210712T210000
DTSTAMP:20260425T085313
CREATED:20210426T145458Z
LAST-MODIFIED:20210426T145458Z
UID:750-1626116400-1626123600@kearneywhitewater.org
SUMMARY:July 2021 Board Meeting
DESCRIPTION:
URL:https://kearneywhitewater.org/event/july-2021-board-meeting/
CATEGORIES:Board Meeting
END:VEVENT
BEGIN:VEVENT
DTSTART;TZID=America/Chicago:20210707T180000
DTEND;TZID=America/Chicago:20210707T193000
DTSTAMP:20260425T085313
CREATED:20210706T145711Z
LAST-MODIFIED:20210706T145711Z
UID:865-1625680800-1625686200@kearneywhitewater.org
SUMMARY:UNK Dream Team student float 2021
DESCRIPTION:
URL:https://kearneywhitewater.org/event/unk-dream-team-student-float-2021/
LOCATION:Kearney Water Trail
CATEGORIES:UNK students
END:VEVENT
BEGIN:VEVENT
DTSTART;TZID=America/Chicago:20210705T180000
DTEND;TZID=America/Chicago:20210705T190000
DTSTAMP:20260425T085313
CREATED:20210623T041252Z
LAST-MODIFIED:20210627T142930Z
UID:854-1625508000-1625511600@kearneywhitewater.org
SUMMARY:Intro to Paddleboarding
DESCRIPTION:https://kearneyne.myrec.com/info/activities/program_details.aspx?ProgramID=29904
URL:https://kearneywhitewater.org/event/intro-to-paddleboarding/
LOCATION:Yanney Marina
CATEGORIES:Lessons
END:VEVENT
BEGIN:VEVENT
DTSTART;TZID=America/Chicago:20210703T100000
DTEND;TZID=America/Chicago:20210704T150000
DTSTAMP:20260425T085313
CREATED:20210426T145104Z
LAST-MODIFIED:20210426T145104Z
UID:744-1625306400-1625410800@kearneywhitewater.org
SUMMARY:Goat Island Overnight with SEP
DESCRIPTION:
URL:https://kearneywhitewater.org/event/goat-island-overnight-with-sep/
CATEGORIES:Float Trip
END:VEVENT
BEGIN:VEVENT
DTSTART;TZID=America/Chicago:20210702T190000
DTEND;TZID=America/Chicago:20210702T220000
DTSTAMP:20260425T085313
CREATED:20210630T023057Z
LAST-MODIFIED:20210630T024327Z
UID:858-1625252400-1625263200@kearneywhitewater.org
SUMMARY:Float To The Fire "Freedom Float"
DESCRIPTION:Decorate your boats and yourself in Red\, White & Blue and float from Yanney Park to Kearney Paddle Sports where we will enjoy a fire and some social time as a group\, be sure to bring a beverage and a chair. Leave a vehicle at Kearney Paddle Sports beforehand and plan on launching around 7:00 pm. This will be a great time of day to beat the heat and still leave plenty of daylight to complete the float. If you’re early that’s fine\, if you’re later that’s also fine we will see you at the fire. We encourage everyone to arrange transport but there will be plenty of people to catch a ride with so no worries. Kearney Paddle Sports is located at 535 Avenue M\, Kearney Ne. when you arrive at this location just follow the sign on Ave. M East through the RV park\, the road will dead-end at the boat ramp. Bring a friend! See you there!
URL:https://kearneywhitewater.org/event/float-to-the-fire-freedom-float/
LOCATION:Kearney Water Trail
CATEGORIES:Float To The Fire
END:VEVENT
BEGIN:VEVENT
DTSTART;TZID=America/Chicago:20210628T180000
DTEND;TZID=America/Chicago:20210628T190000
DTSTAMP:20260425T085313
CREATED:20210623T040909Z
LAST-MODIFIED:20210623T041100Z
UID:847-1624903200-1624906800@kearneywhitewater.org
SUMMARY:Intro to Kayaking
DESCRIPTION:https://kearneyne.myrec.com/info/activities/program_details.aspx?ProgramID=29904
URL:https://kearneywhitewater.org/event/intro-to-kayaking/
LOCATION:Cottonmill Lake
CATEGORIES:Lessons
END:VEVENT
BEGIN:VEVENT
DTSTART;TZID=America/Chicago:20210618T190000
DTEND;TZID=America/Chicago:20210618T220000
DTSTAMP:20260425T085313
CREATED:20210615T140450Z
LAST-MODIFIED:20210617T195154Z
UID:830-1624042800-1624053600@kearneywhitewater.org
SUMMARY:Float to the Fire – June 18\, 2021
DESCRIPTION:Float from Yanney Park boat ramp to Kearney Paddle Sports where we will enjoy a fire and some social time\, be sure to bring a beverage and a chair. Leave a vehicle at Kearney Paddle Sports beforehand and plan on launching prior to 7:30 pm. If you’re early that’s fine\, if you’re later that’s also fine we will see you at the fire. We encourage everyone to arrange transport but there will be plenty of people to catch a ride with so no worries. Kearney Paddle Sports is located at 535 Avenue M\, Kearney Ne. when you arrive at this location just follow the sign on Ave. M East through the RV park\, the road will dead-end at the KPS site. Bring a friend! See you there!
URL:https://kearneywhitewater.org/event/float-to-the-fire-june-18-2021/
LOCATION:Kearney Paddle Sports
CATEGORIES:Float To The Fire
END:VEVENT
BEGIN:VEVENT
DTSTART;TZID=America/Chicago:20210614T190000
DTEND;TZID=America/Chicago:20210614T210000
DTSTAMP:20260425T085313
CREATED:20210422T153637Z
LAST-MODIFIED:20210422T162224Z
UID:732-1623697200-1623704400@kearneywhitewater.org
SUMMARY:June 2021 Board Meeting
DESCRIPTION:
URL:https://kearneywhitewater.org/event/june-board-meeting/
CATEGORIES:Board Meeting
END:VEVENT
BEGIN:VEVENT
DTSTART;TZID=America/Chicago:20210611T100000
DTEND;TZID=America/Chicago:20210613T120000
DTSTAMP:20260425T085313
CREATED:20210422T205946Z
LAST-MODIFIED:20210422T205946Z
UID:739-1623405600-1623585600@kearneywhitewater.org
SUMMARY:Niobrara Camp & Float with SEP
DESCRIPTION:Sioux Empire Paddlers have invited KWA members to join them on June 11\, 2021 in a trip down the Niobrara. Plans are to camp at Smith Falls State Park.
URL:https://kearneywhitewater.org/event/niobrara-camp-float-with-sep/
CATEGORIES:Float Trip
END:VEVENT
BEGIN:VEVENT
DTSTART;TZID=America/Chicago:20210606T053000
DTEND;TZID=America/Chicago:20210606T090000
DTSTAMP:20260425T085313
CREATED:20210527T045644Z
LAST-MODIFIED:20210527T045644Z
UID:804-1622957400-1622970000@kearneywhitewater.org
SUMMARY:Calamus River Sunrise Float - June 2021
DESCRIPTION:
URL:https://kearneywhitewater.org/event/calamus-river-sunrise-float-june-2021/
LOCATION:Calamus River
CATEGORIES:Float Trip
END:VEVENT
BEGIN:VEVENT
DTSTART;TZID=America/Chicago:20210605T110000
DTEND;TZID=America/Chicago:20210605T170000
DTSTAMP:20260425T085313
CREATED:20210422T192009Z
LAST-MODIFIED:20210422T192033Z
UID:735-1622890800-1622912400@kearneywhitewater.org
SUMMARY:Calamus River Trip
DESCRIPTION:Late spring on the Calamus
URL:https://kearneywhitewater.org/event/calamus-river-trip/
CATEGORIES:Float Trip
END:VEVENT
BEGIN:VEVENT
DTSTART;TZID=America/Chicago:20210604T173000
DTEND;TZID=America/Chicago:20210604T220000
DTSTAMP:20260425T085313
CREATED:20210527T050234Z
LAST-MODIFIED:20210527T050234Z
UID:815-1622827800-1622844000@kearneywhitewater.org
SUMMARY:Float to the Fire - June 4
DESCRIPTION:
URL:https://kearneywhitewater.org/event/float-to-the-fire-june-4/
CATEGORIES:Float To The Fire
END:VEVENT
BEGIN:VEVENT
DTSTART;TZID=America/Chicago:20210604T130000
DTEND;TZID=America/Chicago:20210604T160000
DTSTAMP:20260425T085313
CREATED:20210527T045231Z
LAST-MODIFIED:20210527T045416Z
UID:800-1622811600-1622822400@kearneywhitewater.org
SUMMARY:Cedar River Trip 2021
DESCRIPTION:
URL:https://kearneywhitewater.org/event/cedar-river-trip-2021/
CATEGORIES:Float Trip
END:VEVENT
BEGIN:VEVENT
DTSTART;TZID=America/Chicago:20210601T173000
DTEND;TZID=America/Chicago:20210601T193000
DTSTAMP:20260425T085313
CREATED:20210527T050016Z
LAST-MODIFIED:20210527T050016Z
UID:810-1622568600-1622575800@kearneywhitewater.org
SUMMARY:June Trash Pickup
DESCRIPTION:We are teaming up with the Kearney Dawn Rotary to remove more trash and debris left from the 2019 flood near and around both the hike/bike trail and the water trail.
URL:https://kearneywhitewater.org/event/june-trash-pickup/
CATEGORIES:Cleanup
END:VEVENT
END:VCALENDAR