BEGIN:VCALENDAR
VERSION:2.0
PRODID:-//Kearney Whitewater Association - ECPv6.15.20//NONSGML v1.0//EN
CALSCALE:GREGORIAN
METHOD:PUBLISH
X-WR-CALNAME:Kearney Whitewater Association
X-ORIGINAL-URL:https://kearneywhitewater.org
X-WR-CALDESC:Events for Kearney Whitewater Association
REFRESH-INTERVAL;VALUE=DURATION:PT1H
X-Robots-Tag:noindex
X-PUBLISHED-TTL:PT1H
BEGIN:VTIMEZONE
TZID:America/Chicago
BEGIN:DAYLIGHT
TZOFFSETFROM:-0600
TZOFFSETTO:-0500
TZNAME:CDT
DTSTART:20240310T080000
END:DAYLIGHT
BEGIN:STANDARD
TZOFFSETFROM:-0500
TZOFFSETTO:-0600
TZNAME:CST
DTSTART:20241103T070000
END:STANDARD
BEGIN:DAYLIGHT
TZOFFSETFROM:-0600
TZOFFSETTO:-0500
TZNAME:CDT
DTSTART:20250309T080000
END:DAYLIGHT
BEGIN:STANDARD
TZOFFSETFROM:-0500
TZOFFSETTO:-0600
TZNAME:CST
DTSTART:20251102T070000
END:STANDARD
BEGIN:DAYLIGHT
TZOFFSETFROM:-0600
TZOFFSETTO:-0500
TZNAME:CDT
DTSTART:20260308T080000
END:DAYLIGHT
BEGIN:STANDARD
TZOFFSETFROM:-0500
TZOFFSETTO:-0600
TZNAME:CST
DTSTART:20261101T070000
END:STANDARD
END:VTIMEZONE
BEGIN:VEVENT
DTSTART;VALUE=DATE:20251204
DTEND;VALUE=DATE:20251205
DTSTAMP:20260423T145839
CREATED:20250304T181455Z
LAST-MODIFIED:20251119T164801Z
UID:1300-1764806400-1764892799@kearneywhitewater.org
SUMMARY:2025 Give Where You Live
DESCRIPTION:Join Kearney Whitewater at McCue’s Nebraska Taproom for our annual Give Where You Live gathering on December 4\, from 6-9 PM. Come down\, get something to eat and discover “Our Recipe For Success”! Join us and see what the next project will be for Kearney Whitewater Association. #recipeforsuccess \nDonation site – https://www.givewhereyoulive.net/organization/KearneyWhitewater
URL:https://kearneywhitewater.org/event/2025-give-where-you-live/
LOCATION:McCue’s Nebraska Taproom\, 2008 Avenue A\, Suite A\, Kearney\, NE\, 68847
CATEGORIES:Fundraiser
END:VEVENT
BEGIN:VEVENT
DTSTART;TZID=America/Chicago:20251208T190000
DTEND;TZID=America/Chicago:20251208T210000
DTSTAMP:20260423T145839
CREATED:20250304T180015Z
LAST-MODIFIED:20250304T180015Z
UID:1298-1765220400-1765227600@kearneywhitewater.org
SUMMARY:December 2025 Board Meeting
DESCRIPTION:
URL:https://kearneywhitewater.org/event/december-2025-board-meeting/
CATEGORIES:Board Meeting
END:VEVENT
END:VCALENDAR